BEGIN:VCALENDAR
METHOD:PUBLISH
VERSION:2.0
CALSCALE:GREGORIAN
PRODID:-//NONSGML WPForms//NONSGML Sugar Calendar Feeds v3.11.0//EN
X-WR-CALNAME:Dayton Cars and Coffee
X-WR-CALDESC:Greater Dayton Corvette Club
X-WR-TIMEZONE:America/Detroit
BEGIN:VTIMEZONE
TZID:America/Detroit
BEGIN:STANDARD
TZOFFSETFROM:-0400
TZOFFSETTO:-0500
DTSTART:20251102T060000
TZNAME:EST
END:STANDARD
BEGIN:DAYLIGHT
TZOFFSETFROM:-0500
TZOFFSETTO:-0400
DTSTART:20260308T070000
TZNAME:EDT
END:DAYLIGHT
END:VTIMEZONE
BEGIN:VTIMEZONE
TZID:America/New_York
BEGIN:STANDARD
TZOFFSETFROM:-0400
TZOFFSETTO:-0500
DTSTART:20251102T060000
TZNAME:EST
END:STANDARD
BEGIN:DAYLIGHT
TZOFFSETFROM:-0500
TZOFFSETTO:-0400
DTSTART:20260308T070000
TZNAME:EDT
END:DAYLIGHT
END:VTIMEZONE
BEGIN:VEVENT
SUMMARY:Dayton Cars and Coffee
DESCRIPTION:
URL;VALUE=URI:https://greaterdaytoncorvettes.org/events/dayton-cars-and-
 coffee-2/
UID:urn:uuid:a4319c7c-e9ac-435e-b6e7-85bf513b6b20
STATUS:CONFIRMED
ORGANIZER:
DTSTAMP:20260421T104746Z
DTSTART;TZID=America/New_York:20260411T080000
DTEND;TZID=America/New_York:20260411T110000
LOCATION:10050 Innovation Drive
END:VEVENT
END:VCALENDAR